BEGIN:VCALENDAR
VERSION:2.0
PRODID:-//la belle aventure - ECPv6.15.20//NONSGML v1.0//EN
CALSCALE:GREGORIAN
METHOD:PUBLISH
X-WR-CALNAME:la belle aventure
X-ORIGINAL-URL:https://labelleaventure.fr
X-WR-CALDESC:Évènements pour la belle aventure
REFRESH-INTERVAL;VALUE=DURATION:PT1H
X-Robots-Tag:noindex
X-PUBLISHED-TTL:PT1H
BEGIN:VTIMEZONE
TZID:Europe/Paris
BEGIN:DAYLIGHT
TZOFFSETFROM:+0100
TZOFFSETTO:+0200
TZNAME:CEST
DTSTART:20250330T010000
END:DAYLIGHT
BEGIN:STANDARD
TZOFFSETFROM:+0200
TZOFFSETTO:+0100
TZNAME:CET
DTSTART:20251026T010000
END:STANDARD
BEGIN:DAYLIGHT
TZOFFSETFROM:+0100
TZOFFSETTO:+0200
TZNAME:CEST
DTSTART:20260329T010000
END:DAYLIGHT
BEGIN:STANDARD
TZOFFSETFROM:+0200
TZOFFSETTO:+0100
TZNAME:CET
DTSTART:20261025T010000
END:STANDARD
BEGIN:DAYLIGHT
TZOFFSETFROM:+0100
TZOFFSETTO:+0200
TZNAME:CEST
DTSTART:20270328T010000
END:DAYLIGHT
BEGIN:STANDARD
TZOFFSETFROM:+0200
TZOFFSETTO:+0100
TZNAME:CET
DTSTART:20271031T010000
END:STANDARD
END:VTIMEZONE
BEGIN:VEVENT
DTSTART;TZID=Europe/Paris:20260425T150000
DTEND;TZID=Europe/Paris:20260425T183000
DTSTAMP:20260423T145816
CREATED:20260228T124057Z
LAST-MODIFIED:20260228T124057Z
UID:10634-1777129200-1777141800@labelleaventure.fr
SUMMARY:Rencontre et dédicace - Damien Galisson - Samedi 25 avril 15h
DESCRIPTION:Auteur originaire de Poitiers\, Damien Galisson décroche en 2023 le Grand Prix de l’Imaginaire (catégorie roman jeunesse francophone) et le Prix Imaginales (catégorie jeunesse) pour son premier roman de fantasy en vers libres\, La Dragonne et le Drôle. Il revient aujourd’hui avec un nouveau roman pour ados\, cette fois-ci plutôt dans une ambiance fantastique\, entre manoir hanté et secrets de famille.
URL:https://labelleaventure.fr/event/rencontre-et-dedicace-damien-galisson-samedi-25-avril-15h/
CATEGORIES:Rencontre/dédicace
ATTACH;FMTTYPE=image/webp:https://labelleaventure.fr/wp-content/uploads/2026/02/e2159e64aa254efe43e19c4200a99ba528a11ee0d6bff78411ce24b9cfa4abf0.webp
END:VEVENT
BEGIN:VEVENT
DTSTART;TZID=Europe/Paris:20260505T190000
DTEND;TZID=Europe/Paris:20260505T203000
DTSTAMP:20260423T145816
CREATED:20260407T094312Z
LAST-MODIFIED:20260407T094312Z
UID:10753-1778007600-1778013000@labelleaventure.fr
SUMMARY:Rencontre - Jennifer Kerner - Mardi 5 mai 19h
DESCRIPTION:Archéologue aux multiples casquettes\, Jennifer Kerner est enseignante\, écrivaine et vidéaste\, notamment à l’origine de la chaîne Youtube Boneless Archéologie. Elle nous livre avec Le théorème du flamant rose un texte féministe mêlant parcours personnel de maternité et analyse archéologique\, ethnologique et sociale de tout ce qui entoure la grossesse. Rendez-vous mardi 5 mai pour en apprendre plus sur nos ancêtres… et nous-mêmes !
URL:https://labelleaventure.fr/event/rencontre-jennifer-kerner-mardi-5-mai-19h/
CATEGORIES:Rencontre/dédicace
ATTACH;FMTTYPE=image/png:https://labelleaventure.fr/wp-content/uploads/2026/04/Screenshot-2026-04-07-at-11-41-12-Electre-NG.png
END:VEVENT
BEGIN:VEVENT
DTSTART;TZID=Europe/Paris:20260506T160000
DTEND;TZID=Europe/Paris:20260506T183000
DTSTAMP:20260423T145816
CREATED:20260407T094422Z
LAST-MODIFIED:20260407T094422Z
UID:10756-1778083200-1778092200@labelleaventure.fr
SUMMARY:Dédicace - Ivan Péault - Mercredi 6 mai 16h-18h30
DESCRIPTION:Actes Sud Jeunesse lance une nouvelle collection de romans humoristiques pour les 7-9 ans\, et c’est Ivan Péault qui ouvre le bal ! Au programme\, des parents qui se comportent comme des ados et un avocat engagé pour défendre les bêtises de sa cliente : humour déjanté au rendez-vous dans ces deux petits romans à découvrir en dédicace à la librairie.
URL:https://labelleaventure.fr/event/dedicace-ivan-peault-mercredi-6-mai-16h-18h30/
CATEGORIES:Rencontre/dédicace
ATTACH;FMTTYPE=image/jpeg:https://labelleaventure.fr/wp-content/uploads/2026/04/cherche-parents-normaux-CV-GAB-EAG-tr.jpg
END:VEVENT
BEGIN:VEVENT
DTSTART;TZID=Europe/Paris:20260530T190000
DTEND;TZID=Europe/Paris:20260530T203000
DTSTAMP:20260423T145816
CREATED:20260407T094517Z
LAST-MODIFIED:20260407T094517Z
UID:10759-1780167600-1780173000@labelleaventure.fr
SUMMARY:Rencontre - Anna Milani - Samedi 30 mai 19h
DESCRIPTION:La maison de la poésie de Poitiers invite Anna Milani. Nous aurons la joie de les recevoir et d’écouter la prose de cette poétesse née en Italie et habitée par deux langues. Elle viendra nous partager son travail autour des espaces dans lesquels elle fait vivre ses mots.
URL:https://labelleaventure.fr/event/rencontre-anna-milani-samedi-30-mai-19h/
CATEGORIES:Rencontre/dédicace
ATTACH;FMTTYPE=image/webp:https://labelleaventure.fr/wp-content/uploads/2026/04/dc205589d5006aa9fb88a80a4037cdc3b4d3ba7d5efa77034726c62329d4574a.webp
END:VEVENT
END:VCALENDAR